BEGIN:VCALENDAR
VERSION:2.0
PRODID:-//Norddeutsches Netzwerk Friedenspädagogik - ECPv5.16.2.1//NONSGML v1.0//EN
CALSCALE:GREGORIAN
METHOD:PUBLISH
X-ORIGINAL-URL:https://xn--netzwerk-friedenspdagogik-2ec.de
X-WR-CALDESC:Events for Norddeutsches Netzwerk Friedenspädagogik
REFRESH-INTERVAL;VALUE=DURATION:PT1H
X-Robots-Tag:noindex
X-PUBLISHED-TTL:PT1H
BEGIN:VTIMEZONE
TZID:Europe/Berlin
BEGIN:DAYLIGHT
TZOFFSETFROM:+0100
TZOFFSETTO:+0200
TZNAME:CEST
DTSTART:20250330T010000
END:DAYLIGHT
BEGIN:STANDARD
TZOFFSETFROM:+0200
TZOFFSETTO:+0100
TZNAME:CET
DTSTART:20251026T010000
END:STANDARD
END:VTIMEZONE
BEGIN:VEVENT
DTSTART;VALUE=DATE:20250423
DTEND;VALUE=DATE:20250425
DTSTAMP:20260422T165251
CREATED:20241229T203458Z
LAST-MODIFIED:20250216T162035Z
UID:2313-1745366400-1745539199@xn--netzwerk-friedenspdagogik-2ec.de
SUMMARY:Utopien für eine gerechte Zukunft - Methodenwerkstatt Globales Lernen
DESCRIPTION:Workshop für Referent*innen des Globalen Lernens / der Bildung für Nachhaltige Entwicklung\nIn dieser zweitägigen Methodenwerkstatt für Referent*innen wollen wir voneinander lernen\, unsere Erfahrungen teilen und uns gegenseitig beraten. Wir stellen uns unsere Konzepte\, Methoden und Ideen vor\, probieren sie aus\, reflektieren sie und nutzen den kollegialen Austausch\, um sie weiterzuentwickeln. Im Mittelpunkt steht das Thema „Utopien für eine gerechte Zukunft“. Um sich aktiv für eine gerechte und nachhaltige Welt im Sinne der Sustainable Development Goals (SDGs) einzusetzen und angesichts globaler Krisen und Herausforderungen handlungsfähig zu bleiben/werden\, müssen Menschen in der Lage sein\, Alternativen zu denken und eine Vorstellung davon zu entwickeln\, wie eine alternative\, positive Zukunft aussehen kann. Oft dominieren jedoch Angst und Unsicherheit und Menschen sehen wenig Sinn darin\, sich für eine positive\, global nachhaltige Zukunft einzusetzen. Wie können wir mit unseren Bildungsangeboten Menschen darin unterstützen\, Blockaden und Ängste wahrzunehmen\, mit ihnen umzugehen und positive Zukunftsbilder zu entwerfen? Welche Methoden sind geeignet\, um Lernende zu motivierenund zu befähigen utopisch zu denken\, eigene Stärken wahrzunehmen und sich aktiv für gesellschaftliche und politische Veränderungen im Sinne einer global gerechten und nachhaltigen Entwicklung einzubringen? Diesen Fragen wollen wir in der Methodenwerkstatt nachgehen. \nKontakt:\nVNB e.V.\nProjektbüro UmWELTBildung\nWiebke Mura\n0511-1235649-23\nwiebke.mura@vnb.de \nFlyer
URL:https://xn--netzwerk-friedenspdagogik-2ec.de/veranstaltung/utopien-fuer-eine-gerechte-zukunft-methodenwerkstatt-globales-lernen
LOCATION:Energie- und Umweltzentrum am Deister\, Zum Energie- u. Umweltzentrum 1\, Springe\, 31832
ORGANIZER;CN="VNB%20e.V.":MAILTO:info@vnb.de
END:VEVENT
BEGIN:VEVENT
DTSTART;TZID=Europe/Berlin:20250423T190000
DTEND;TZID=Europe/Berlin:20250423T210000
DTSTAMP:20260422T165251
CREATED:20250331T143848Z
LAST-MODIFIED:20250405T120744Z
UID:2403-1745434800-1745442000@xn--netzwerk-friedenspdagogik-2ec.de
SUMMARY:Vortragsreihe: Konflikte transformieren – Kriege vermeiden
DESCRIPTION:Prof. Dr. August Pradetto: Konflikttransformation durch Geopolitik?\nFür eine Neujustierung der europäischen Außen- und Sicherheitspolitik\nSeit zwei Jahrzehnten haben immer mehr Akteure ihre Außen- und Sicherheitspolitik im regionalen wie globalen Maßstab geopolitisiert. Dies hatte negative Auswirkungen auf Sicherheit\, Stabilität\, Wohlstand und demokratische Strukturen auch an der europäischen Peripherie und in Europa selbst. Die EU hat sich dieser Entwicklung nicht entgegengestellt\, sondern sie noch verstärkt. Was muss passieren\, um aus der Eskalation von Krisen\, die sich wechselseitig aufschaukeln\, herauszukommen? \nKontakt:\nStiftung die schwelle\nBeiträge zum Frieden\nTel.: 0421 – 303 25 75\nstiftung@dieschwelle.de\nwww.dieschwelle.de \nFlyer der Veranstaltungsreihe
URL:https://xn--netzwerk-friedenspdagogik-2ec.de/veranstaltung/vortragsreihe-konflikte-transformieren-kriege-vermeiden-2
LOCATION:Tivolisaal\, DGB Haus\, Bahnhofsplatz 22-28\, Bremen\, 28195\, Germany
ORGANIZER;CN="Stiftung%20die%20schwelle":MAILTO:stiftung @dieschwelle.de
END:VEVENT
END:VCALENDAR