BEGIN:VCALENDAR
VERSION:2.0
PRODID:-//Norddeutsches Netzwerk Friedenspädagogik - ECPv5.16.2.1//NONSGML v1.0//EN
CALSCALE:GREGORIAN
METHOD:PUBLISH
X-WR-CALNAME:Norddeutsches Netzwerk Friedenspädagogik
X-ORIGINAL-URL:https://xn--netzwerk-friedenspdagogik-2ec.de
X-WR-CALDESC:Events for Norddeutsches Netzwerk Friedenspädagogik
REFRESH-INTERVAL;VALUE=DURATION:PT1H
X-Robots-Tag:noindex
X-PUBLISHED-TTL:PT1H
BEGIN:VTIMEZONE
TZID:Europe/Berlin
BEGIN:DAYLIGHT
TZOFFSETFROM:+0100
TZOFFSETTO:+0200
TZNAME:CEST
DTSTART:20250330T010000
END:DAYLIGHT
BEGIN:STANDARD
TZOFFSETFROM:+0200
TZOFFSETTO:+0100
TZNAME:CET
DTSTART:20251026T010000
END:STANDARD
END:VTIMEZONE
BEGIN:VEVENT
DTSTART;TZID=Europe/Berlin:20250521T190000
DTEND;TZID=Europe/Berlin:20250521T210000
DTSTAMP:20260422T151403
CREATED:20250331T144613Z
LAST-MODIFIED:20250405T120638Z
UID:2407-1747854000-1747861200@xn--netzwerk-friedenspdagogik-2ec.de
SUMMARY:Vortragsreihe: Konflikte transformieren – Kriege vermeiden
DESCRIPTION:David Scheuing: Methoden & Praxis Konflikte gewaltfrei zu transformieren\nDavid Scheuing ist Redakteur der Zeitschrift „Wissenschaft & Frieden“ und gewaltfreier Aktivist aus Lüchow. Um Konflikte\, ihre Treiber und ihre Dynamiken zu verstehen\, zu bearbeiten und notwendige Aushandlungsprozesse zu ermöglichen\, sind mindestens drei Ebenen wichtig: Konflikt(eskalations)wissen\, Methoden und Techniken der Intervention sowie aktive Foren der praktischen Konflikttransformation. Für jede Konfliktbearbeitung\, aber auch jeden Friedensaktivismus\, ist gute Information eine wichtige Voraussetzung – wie kann das gelingen? \nKontakt:\nStiftung die schwelle\nBeiträge zum Frieden\nTel.: 0421 – 303 25 75\nstiftung@dieschwelle.de\nwww.dieschwelle.de \nFlyer der Veranstaltungsreihe
URL:https://xn--netzwerk-friedenspdagogik-2ec.de/veranstaltung/vortragsreihe-konflikte-transformieren-kriege-vermeiden-4
LOCATION:Tivolisaal\, DGB Haus\, Bahnhofsplatz 22-28\, Bremen\, 28195\, Germany
ORGANIZER;CN="Stiftung%20die%20schwelle":MAILTO:stiftung @dieschwelle.de
END:VEVENT
END:VCALENDAR