BEGIN:VCALENDAR
VERSION:2.0
PRODID:-//Norddeutsches Netzwerk Friedenspädagogik - ECPv5.16.2.1//NONSGML v1.0//EN
CALSCALE:GREGORIAN
METHOD:PUBLISH
X-WR-CALNAME:Norddeutsches Netzwerk Friedenspädagogik
X-ORIGINAL-URL:https://xn--netzwerk-friedenspdagogik-2ec.de
X-WR-CALDESC:Events for Norddeutsches Netzwerk Friedenspädagogik
REFRESH-INTERVAL;VALUE=DURATION:PT1H
X-Robots-Tag:noindex
X-PUBLISHED-TTL:PT1H
BEGIN:VTIMEZONE
TZID:Europe/Berlin
BEGIN:DAYLIGHT
TZOFFSETFROM:+0100
TZOFFSETTO:+0200
TZNAME:CEST
DTSTART:20250330T010000
END:DAYLIGHT
BEGIN:STANDARD
TZOFFSETFROM:+0200
TZOFFSETTO:+0100
TZNAME:CET
DTSTART:20251026T010000
END:STANDARD
END:VTIMEZONE
BEGIN:VEVENT
DTSTART;VALUE=DATE:20250611
DTEND;VALUE=DATE:20250616
DTSTAMP:20260421T212211
CREATED:20241230T173559Z
LAST-MODIFIED:20241230T173559Z
UID:2326-1749600000-1750031999@xn--netzwerk-friedenspdagogik-2ec.de
SUMMARY:„Betzavta-Miteinander“ - Zertifizierte Trainer*innen-Ausbildungskurse (Modul II)
DESCRIPTION:Unter der Anleitung zweier erfahrener Betzavta-Ausbilder*innen und unter Nutzung der Gruppenressourcen werden alle Teilnehmenden die Möglichkeit erhalten\, in Teams jeweils mindestens eine Betzavta-Übung vorzubereiten und mit der Gruppe eigenverantwortlich durchzuführen. Schließlich wird jedem/jeder Teilnehmer/in die Gelegenheit gegeben\, die jeweiligen Moderationserfahrungen zu reflektieren und intensives Feedback von den Ausbilder*innen und der Gruppe zu erhalten. \nKontakt:\nGabriele Wiemeyer\n(0 58 21) 9 55-11 4\ngabriele.wiemeyer@gsi-bevensen.de
URL:https://xn--netzwerk-friedenspdagogik-2ec.de/veranstaltung/betzavta-miteinander-zertifizierte-trainerinnen-ausbildungskurse-modul-ii-2
LOCATION:Gustav Stresemann Institut in Niedersachsen e.V.\, Klosterweg 4\, Bad Bevensen\, Niedersachsen\, 29549
ORGANIZER;CN="Gustav%20Stresemann%20Institut%20e.V.":MAILTO:info@gsi-bevensen.de
END:VEVENT
BEGIN:VEVENT
DTSTART;VALUE=DATE:20250613
DTEND;VALUE=DATE:20250616
DTSTAMP:20260421T212211
CREATED:20250216T173246Z
LAST-MODIFIED:20250216T174927Z
UID:2375-1749772800-1750031999@xn--netzwerk-friedenspdagogik-2ec.de
SUMMARY:Gelassen bleiben im Konflikt - Gewaltfreie Kommunikation nach Marshall Rosenberg
DESCRIPTION:Präsenz-Seminar und ein ergänzender Online-Workshop\nWenn ich Andersdenkende erreichen möchte\, ist es wenig hilfreich\, mich auf einen Schlagabtausch einzulassen – das ist aber gerade in der politischen Bildungs- und Öffentlichkeitsarbeit oft eine Herausforderung. Wie reagiere ich zum Beispiel\, wenn ich selbst oder andere in politischen Diskussionen oder Bildungsveranstaltungen angegriffen und beleidigt werden? Wie kann ich meine Anliegen oder mein Feedback ehrlich und ohne Vorwürfe ausdrücken\, vor allem wenn ich verärgert bin?\nGewaltfreie Kommunikation ist ein von Marshall Rosenberg entwickeltes Konzept\, das dabei hilft\, eine empathische\, wertschätzende Grundhaltung sich selbst und anderen gegenüber zu entwickeln. Es zeigt Wege auf\, achtsam und verantwortlich mit Sprache umzugehen.\nDieses Seminar bietet eine Einführung in das Modell und die innere Haltung der Gewaltfreien Kommunikation. Anhand von Konflikten und Situationen aus der Praxis der Teilnehmenden üben wir diese Art des Kommunizierens und erfahren ihre Wirkung. \nDieses Seminar findet in deutscher Lautsprache statt. \nReferent*in: Simran Wester (Trainerin für Gewaltfreie Kommunikation (CNVC)\, Leiterin des Hamburger Instituts für Gewaltfreie Kommunikation\, Kundalini Yoga Ausbilderin (KRI)) \nUm den Transfer in den Alltag zu erleichtern\, wird das Präsenz-Seminar ergänzt durch ein nachfolgendes Online-Modul\, in dem das Erlernte vertieft und bereits gemachte Erfahrungen mit der Gewaltfreien Kommunikation reflektiert werden können. Das Präsenz-Wochenende und der Online-Termin bilden eine zusammenhängende Einheit und können daher auch nur zusammen gebucht werden. \nTermin Online-Modul: 01.07.2025\, 16-19 Uhr\n \nKontakt:\nBrot für die Welt – Bildungsstelle Nord\nTeam Bildungsstelle Nord\nTel.: 040 – 605 25 59\nbildungsstelle-nord@brot-fuer-die-welt.de\nErreichbarkeit i. d. R. Mo-Fr 09.00 – 14.00 Uhr
URL:https://xn--netzwerk-friedenspdagogik-2ec.de/veranstaltung/gelassen-bleiben-im-konflikt-gewaltfreie-kommunikation-nach-marshall-rosenberg
LOCATION:Missionsakademie Hamburg\, Rupertistraße 67\, Hamburg\, 22609\, Deutschland
ORGANIZER;CN="Brot%20f%C3%BCr%20die%20Welt%2C%20Bildungsstelle%20Nord":MAILTO:bildungsstelle-nord@brot-fuer-die-welt.de
END:VEVENT
END:VCALENDAR