BEGIN:VCALENDAR
VERSION:2.0
PRODID:-//Norddeutsches Netzwerk Friedenspädagogik - ECPv5.16.2.1//NONSGML v1.0//EN
CALSCALE:GREGORIAN
METHOD:PUBLISH
X-ORIGINAL-URL:https://xn--netzwerk-friedenspdagogik-2ec.de
X-WR-CALDESC:Events for Norddeutsches Netzwerk Friedenspädagogik
REFRESH-INTERVAL;VALUE=DURATION:PT1H
X-Robots-Tag:noindex
X-PUBLISHED-TTL:PT1H
BEGIN:VTIMEZONE
TZID:Europe/Berlin
BEGIN:DAYLIGHT
TZOFFSETFROM:+0100
TZOFFSETTO:+0200
TZNAME:CEST
DTSTART:20250330T010000
END:DAYLIGHT
BEGIN:STANDARD
TZOFFSETFROM:+0200
TZOFFSETTO:+0100
TZNAME:CET
DTSTART:20251026T010000
END:STANDARD
END:VTIMEZONE
BEGIN:VEVENT
DTSTART;TZID=Europe/Berlin:20250712T100000
DTEND;TZID=Europe/Berlin:20250713T150000
DTSTAMP:20260420T152656
CREATED:20250705T110734Z
LAST-MODIFIED:20250705T110734Z
UID:2498-1752314400-1752418800@xn--netzwerk-friedenspdagogik-2ec.de
SUMMARY:Weiterbildungseminar: Klimagerechtigkeit vermitteln
DESCRIPTION:Du möchtest selbst aktiv werden und Bildungsarbeit zu Klimagerechtigkeit gestalten? In diesem praxisnahen Seminar lernst du fundiertes Wissen\, erprobte Methoden und kreative Ansätze für transformative Bildungsarbeit kennen.\nInhalte:\n– Globale Perspektiven und soziale Bewegungen\n– Methoden der politischen Bildung & Arbeit mit Gruppen\n– Austausch & kollektives Lernen\n– Stärkung deiner Rolle als politische Bildnerin \nAnmeldung: weiterbildungsseminare@pbi-deutschland.de \nKontakt:\nPeace Brigades International\nJanhavi\njanhavi.modak@pbi-deutschland.de
URL:https://xn--netzwerk-friedenspdagogik-2ec.de/veranstaltung/weiterbildungseminar-klimagerechtigkeit-vermitteln
LOCATION:eeden\, Streesemannstr. 132A\, Hamburg\, 22769
ORGANIZER;CN="peace%20brigades%20international%20e.V.%20%28pbi%29":MAILTO:info@pbi-deutschland.de
END:VEVENT
END:VCALENDAR