BEGIN:VCALENDAR
VERSION:2.0
PRODID:-//Norddeutsches Netzwerk Friedenspädagogik - ECPv5.16.2.1//NONSGML v1.0//EN
CALSCALE:GREGORIAN
METHOD:PUBLISH
X-ORIGINAL-URL:https://xn--netzwerk-friedenspdagogik-2ec.de
X-WR-CALDESC:Events for Norddeutsches Netzwerk Friedenspädagogik
REFRESH-INTERVAL;VALUE=DURATION:PT1H
X-Robots-Tag:noindex
X-PUBLISHED-TTL:PT1H
BEGIN:VTIMEZONE
TZID:Europe/Berlin
BEGIN:DAYLIGHT
TZOFFSETFROM:+0100
TZOFFSETTO:+0200
TZNAME:CEST
DTSTART:20250330T010000
END:DAYLIGHT
BEGIN:STANDARD
TZOFFSETFROM:+0200
TZOFFSETTO:+0100
TZNAME:CET
DTSTART:20251026T010000
END:STANDARD
END:VTIMEZONE
BEGIN:VEVENT
DTSTART;VALUE=DATE:20250726
DTEND;VALUE=DATE:20250808
DTSTAMP:20260420T135424
CREATED:20250216T163051Z
LAST-MODIFIED:20250216T163051Z
UID:2356-1753488000-1754611199@xn--netzwerk-friedenspdagogik-2ec.de
SUMMARY:Peacetrain 2025 - Polen\, Slowakei\, Tschechiein
DESCRIPTION:Zwei Wochen Roadtrip durch Polen\, die Slowakei und Tschechien. WG auf Zeit. 5 Orte. 20 Personen. 3 Kleinbusse. 1 Ziel: Gemeinsam touren\, entdecken\, Neues erleben\, Freiheit schnuppern\, Perspektivenwechsel\, feiern\, nachdenken\, kochen\, still werden\, zuhören\, verstehen\, Musik machen\, am Lagerfeuer sitzen\, in den Himmel sehen\, was bewegen\, anpacken. Frieden auf laut stellen. Runterkommen. Eintauchen. Auftanken. Loslegen. Gemeinsam. \n\n\n\n\n\n\n\n\n\n\nBesonderheiten\nZwei besondere Zielorte:\n1) Krakau und die Gedenkstätte Auschwitz-Birkenau in Polen\n2) 2-tägige Hüttenwanderung in der Hohen Tatra (Gebirgskette zwischen Polen und der Slowakei) auf knapp 2000 m Höhe. \nWichtig: Am Samstag\, den 28. Juni gibt es ein peace-train-Tag in Sandbostel als Vorbereitung für den gemeinsamen Roadtrip. \n\nWarteliste: Die Nachfrage nach dieser Freizeit ist hoch. Darum können wir aktuell nur noch Wartelistenplätze vergeben. Eine Anmeldung auf die Warteliste kann in jedem Fall sinnvoll sein – sollten Plätze frei werden\, melden wir uns. \n\nInformationen und Anmeldung:\nhttps://unterwegs.kkbz.de/Freizeiten/jugend/Peacetrain\nHier geht es zur Online-Anmeldung \nKontakt:\nDiakon Michael Freitag-Parey\nGedenkstätte Lager Sandbostel\nMobil: 0152-31739378\nm.freitag-parey@stiftung-lager-sandbostel.de
URL:https://xn--netzwerk-friedenspdagogik-2ec.de/veranstaltung/peacetrain-2025-polen-slowakei-tschechiein
ORGANIZER;CN="Gedenkst%C3%A4tte%20Lager%20Sandbostel":MAILTO:info@stiftung-lager-sandbostel.de
END:VEVENT
BEGIN:VEVENT
DTSTART;VALUE=DATE:20250731
DTEND;VALUE=DATE:20250801
DTSTAMP:20260420T135424
CREATED:20250705T100700Z
LAST-MODIFIED:20250705T100700Z
UID:2491-1753920000-1754006399@xn--netzwerk-friedenspdagogik-2ec.de
SUMMARY:Ausbildung zur Berater*in für gewaltfreie Konflikttransformation und Soziale Bewegungen
DESCRIPTION:Verlängerte Anmeldephase bis Ende Juli\nDie Absolvent*innen der Ausbildung werden als zertifizierte „Berater*in für gewaltfreie Konflikttransformation und soziale Bewegungen“ in der Lage sein\, mit konfliktsensiblen Methoden in der zivilen\, gewaltfreien Konflikttransformation und sozialen Bewegungen im In- und Ausland\, insbesondere im Rahmen des Zivilen Friedensdienstes (ZFD) tätig zu sein. Sie werden Projekte der Friedens- und Bewegungsarbeit planen\, durchführen und auswerten können. Sie haben spezifische Kenntnisse in ausgewählten Handlungsfeldern der zivilen\, gewaltfreien Konflikttransformation und Bewegungsarbeit erworben und in der Praxis erprobt und weiterentwickelt. Sie sind in der Lage\, ihr eigenes Verhalten sowie Macht- und Diskriminierungsprozesse zu reflektieren. Sie verfügen über kommunikative Kompetenzen für die Arbeit im interkulturellen Kontext. \nAusbildungszeitraum: September 2025 – Dezember 2026 (berufsbegleitend\, 40 Präsenztage + Praxisphase und Abschlussarbeit) \nKontakt:\nMona Leirich\nausbildung@kurvewustrow.org \nFlyer
URL:https://xn--netzwerk-friedenspdagogik-2ec.de/veranstaltung/ausbildung-zur-beraterin-fuer-gewaltfreie-konflikttransformation-und-soziale-bewegungen
LOCATION:KURVE Wustrow\, Kirchstraße 14\, Wustrow (Wendland)\, Niedersachsen\, 29462\, Deutschland
END:VEVENT
END:VCALENDAR