BEGIN:VCALENDAR
VERSION:2.0
PRODID:-//Norddeutsches Netzwerk Friedenspädagogik - ECPv5.16.2.1//NONSGML v1.0//EN
CALSCALE:GREGORIAN
METHOD:PUBLISH
X-WR-CALNAME:Norddeutsches Netzwerk Friedenspädagogik
X-ORIGINAL-URL:https://xn--netzwerk-friedenspdagogik-2ec.de
X-WR-CALDESC:Events for Norddeutsches Netzwerk Friedenspädagogik
REFRESH-INTERVAL;VALUE=DURATION:PT1H
X-Robots-Tag:noindex
X-PUBLISHED-TTL:PT1H
BEGIN:VTIMEZONE
TZID:Europe/Berlin
BEGIN:DAYLIGHT
TZOFFSETFROM:+0100
TZOFFSETTO:+0200
TZNAME:CEST
DTSTART:20250330T010000
END:DAYLIGHT
BEGIN:STANDARD
TZOFFSETFROM:+0200
TZOFFSETTO:+0100
TZNAME:CET
DTSTART:20251026T010000
END:STANDARD
END:VTIMEZONE
BEGIN:VEVENT
DTSTART;TZID=Europe/Berlin:20250910T180000
DTEND;TZID=Europe/Berlin:20250910T193000
DTSTAMP:20260420T121128
CREATED:20250814T145412Z
LAST-MODIFIED:20250814T145412Z
UID:2530-1757527200-1757532600@xn--netzwerk-friedenspdagogik-2ec.de
SUMMARY:Digitaler Informationsabend für unsere Ausbildung Mediation
DESCRIPTION:Beim digitalen Informationsabend zu unserer Ausbildung Mediation erfahrt ihr alle wichtigen Informationen zum Rahmen und den Inhalten unserer Ausbildung. Das Ausbildungsteam stellt sich vor und es gibt die Möglichkeit\, in einer angenehmen Atmosphäre Fragen zu stellen. Die Teilnahme an unserem Informationsabend ist Voraussetzung für die Ausbildung in unserem Institut. \nMediation ist ein Verfahren zur Vermittlung von Konflikten durch eine unparteiische Person mit dem Ziel\, Streitende ins Gespräch zu bringen. Mit Hilfe von Mediationskompetenzen kann in allen Bereichen des Lebens ein Umgang mit Konflikten gefunden werden. Nach unserer Ausbildung Mediation könnt ihr als zertifizierte*r Mediator*in arbeiten. Darüber hinaus sind die in der Ausbildung vermittelten Kompetenzen ein nützlicher Werkzeugkoffer für euren beruflichen und privaten Alltag. \nAnmeldung über die Webseite des ikm \nKontakt:\nJasmin Hoffmann\nhoffmann@ikm-hamburg.de\nTelefon: +49 40 2800 6852
URL:https://xn--netzwerk-friedenspdagogik-2ec.de/veranstaltung/digitaler-informationsabend-fuer-unsere-ausbildung-mediation-2
LOCATION:Institut für Konfliktaustragung und Mediation e.V. (ikm)\, An d. Alster 40\, Hamburg\, Hamburg\, 20099\, Deutschland
ORGANIZER;CN="ikm%20e.V.%20-%20Institut%20f%C3%BCr%20konstruktive%20Konflikaustragung%20und%20Mediation":MAILTO:info@ikm-hamburg.de
END:VEVENT
END:VCALENDAR